BEGIN:VCALENDAR
VERSION:2.0
PRODID:-//Muttley Crew Archers - ECPv6.15.20//NONSGML v1.0//EN
CALSCALE:GREGORIAN
METHOD:PUBLISH
X-WR-CALNAME:Muttley Crew Archers
X-ORIGINAL-URL:https://www.muttleyarchers.co.uk
X-WR-CALDESC:Events for Muttley Crew Archers
REFRESH-INTERVAL;VALUE=DURATION:PT1H
X-Robots-Tag:noindex
X-PUBLISHED-TTL:PT1H
BEGIN:VTIMEZONE
TZID:Europe/London
BEGIN:DAYLIGHT
TZOFFSETFROM:+0000
TZOFFSETTO:+0100
TZNAME:BST
DTSTART:20250330T010000
END:DAYLIGHT
BEGIN:STANDARD
TZOFFSETFROM:+0100
TZOFFSETTO:+0000
TZNAME:GMT
DTSTART:20251026T010000
END:STANDARD
BEGIN:DAYLIGHT
TZOFFSETFROM:+0000
TZOFFSETTO:+0100
TZNAME:BST
DTSTART:20260329T010000
END:DAYLIGHT
BEGIN:STANDARD
TZOFFSETFROM:+0100
TZOFFSETTO:+0000
TZNAME:GMT
DTSTART:20261025T010000
END:STANDARD
BEGIN:DAYLIGHT
TZOFFSETFROM:+0000
TZOFFSETTO:+0100
TZNAME:BST
DTSTART:20270328T010000
END:DAYLIGHT
BEGIN:STANDARD
TZOFFSETFROM:+0100
TZOFFSETTO:+0000
TZNAME:GMT
DTSTART:20271031T010000
END:STANDARD
END:VTIMEZONE
BEGIN:VEVENT
DTSTART;VALUE=DATE:20260322
DTEND;VALUE=DATE:20260323
DTSTAMP:20260420T015051
CREATED:20260106T114954Z
LAST-MODIFIED:20260118T203834Z
UID:9920-1774137600-1774223999@www.muttleyarchers.co.uk
SUMMARY:UKRS Open Portsmouth  (WA/AGB)
DESCRIPTION:UKRS Open Portsmouth \n2 sessions available – choose one only. \nAll styles and ages.
URL:https://www.muttleyarchers.co.uk/shoot/ukrs-open-portsmouth-fita/
LOCATION:Winstanley College\, Winstanley Road\, Orrell\, Wigan\, Manchester\, WN5 7NF\, United Kingdom
CATEGORIES:FITA
ATTACH;FMTTYPE=image/webp:https://www.muttleyarchers.co.uk/wp-content/uploads/2026/01/woa.webp
END:VEVENT
BEGIN:VEVENT
DTSTART;VALUE=DATE:20260321
DTEND;VALUE=DATE:20260322
DTSTAMP:20260420T015051
CREATED:20251006T231608Z
LAST-MODIFIED:20260316T091536Z
UID:9497-1774051200-1774137599@www.muttleyarchers.co.uk
SUMMARY:Wood Shoot (Club Only)
DESCRIPTION:
URL:https://www.muttleyarchers.co.uk/shoot/wood-shoot-club-only-3/
LOCATION:Sales Wood\, Prescot and Odyssey Cricket Club\, Prescot\, Lancashire\, L35 6JW\, United Kingdom
CATEGORIES:Wood Shoot (Club Only)
ATTACH;FMTTYPE=image/webp:https://www.muttleyarchers.co.uk/wp-content/uploads/2026/02/woodshooot-e1770186341124.webp
END:VEVENT
BEGIN:VEVENT
DTSTART;VALUE=DATE:20260314
DTEND;VALUE=DATE:20260315
DTSTAMP:20260420T015051
CREATED:20251009T231532Z
LAST-MODIFIED:20251009T231532Z
UID:9558-1773446400-1773532799@www.muttleyarchers.co.uk
SUMMARY:Spring Clout Tournament (Clout Collective)
DESCRIPTION:Saturday 14th March 2026.\nAssembly 10.15am.\nDouble One-Way Imperial Clout – Tassel Award and UK Record Status. \nBow categories are Longbow\, Asiatic Bow\, American Flatbow\, Barebow\, Recurve and Compound
URL:https://www.muttleyarchers.co.uk/shoot/spring-clout-tournament-clout-collective/
LOCATION:Clout Collective Etwall\, Mercia Archers\, Gresley Old Hall\, Swadlincote\, Derby\, DE11 9QW\, United Kingdom
CATEGORIES:Longbow Other
ATTACH;FMTTYPE=image/jpeg:https://www.muttleyarchers.co.uk/wp-content/uploads/2025/10/cloutcollective.jpg
END:VEVENT
BEGIN:VEVENT
DTSTART;VALUE=DATE:20260310
DTEND;VALUE=DATE:20260311
DTSTAMP:20260420T015051
CREATED:20251006T212538Z
LAST-MODIFIED:20260204T060853Z
UID:9471-1773100800-1773187199@www.muttleyarchers.co.uk
SUMMARY:Indoor League (Club Event)
DESCRIPTION:
URL:https://www.muttleyarchers.co.uk/shoot/indoor-league-club-event-8/
LOCATION:Inglenook Barn\, Inglenook Farm\, Rainford\, Lancashire\, WA11 8AE\, United Kingdom
CATEGORIES:Indoor League (Club Only)
ATTACH;FMTTYPE=image/webp:https://www.muttleyarchers.co.uk/wp-content/uploads/2026/02/indoorleague-e1770186306406.webp
END:VEVENT
BEGIN:VEVENT
DTSTART;VALUE=DATE:20260308
DTEND;VALUE=DATE:20260309
DTSTAMP:20260420T015051
CREATED:20260118T202856Z
LAST-MODIFIED:20260118T203048Z
UID:10079-1772928000-1773014399@www.muttleyarchers.co.uk
SUMMARY:Geoff Trimble Memorial Rove (Open)
DESCRIPTION:Geoff Trimble Memorial Rove – Poulton Hall\, Birkenhead \nRegistration 09.30 – 10.00\, first arrows 10.30. \nClass 1: Longbows \nHeavy: 45lb and over @28″ draw length\nLight: 31lb to 44lb @26 to 28″ draw length\nUltra-Light: 30lb and under @26″ draw length \nClass 2: Traditional Bows \n(includes Horse Bows\, Flat Bows\, Traditional Recurve etc.) \nClass 3: Thumb Release Archers \n(NFAS Cards Accepted) \nFeather Fletched Wooden Arrows Only \nEntry form with payment options is available on the club website. \nSoup and drink included in cost.
URL:https://www.muttleyarchers.co.uk/shoot/geoff-trimble-memorial-rove-open/
LOCATION:Poulton Hall\, Poulton Hall\, Poulton Road\, Wirral\, CH63 9LN\, United Kingdom
CATEGORIES:Longbow Other
ATTACH;FMTTYPE=image/jpeg:https://www.muttleyarchers.co.uk/wp-content/uploads/2025/10/longbow.jpg
END:VEVENT
BEGIN:VEVENT
DTSTART;VALUE=DATE:20260228
DTEND;VALUE=DATE:20260301
DTSTAMP:20260420T015051
CREATED:20260106T114108Z
LAST-MODIFIED:20260118T210311Z
UID:9917-1772236800-1772323199@www.muttleyarchers.co.uk
SUMMARY:Eccles Archery Club UKRS Stafford  (WA/AGB)
DESCRIPTION:UKRS Stafford ( 2 sessions) \nSession one\, equipment inspection from 8:30\, assembly 9:00 \n\nSession two\, equipment inspection 13:00\, assembly 13:30\n \nShooting will be on layered foam bosses\, 4 archers per boss\, shooting in two details. Compound and recurve archers on Individual 6 zone faces. Barebow and longbow on full 80cm faces.
URL:https://www.muttleyarchers.co.uk/shoot/eccles-archery-club-ukrs-stafford-fita/
LOCATION:Eccles Archery Club\, 216 Peel Green Rd\, Eccles\, Salford\, Manchester\, M30 7DR\, United Kingdom
CATEGORIES:FITA
ATTACH;FMTTYPE=image/webp:https://www.muttleyarchers.co.uk/wp-content/uploads/2026/01/wa.webp
END:VEVENT
BEGIN:VEVENT
DTSTART;VALUE=DATE:20260228
DTEND;VALUE=DATE:20260301
DTSTAMP:20260420T015051
CREATED:20251006T231439Z
LAST-MODIFIED:20260204T061515Z
UID:9495-1772236800-1772323199@www.muttleyarchers.co.uk
SUMMARY:Wood Shoot (Club Only)
DESCRIPTION:
URL:https://www.muttleyarchers.co.uk/shoot/wood-shoot-club-only-2/
LOCATION:Sales Wood\, Prescot and Odyssey Cricket Club\, Prescot\, Lancashire\, L35 6JW\, United Kingdom
CATEGORIES:Wood Shoot (Club Only)
ATTACH;FMTTYPE=image/webp:https://www.muttleyarchers.co.uk/wp-content/uploads/2026/02/woodshooot-e1770186341124.webp
END:VEVENT
BEGIN:VEVENT
DTSTART;VALUE=DATE:20260222
DTEND;VALUE=DATE:20260223
DTSTAMP:20260420T015051
CREATED:20260106T113223Z
LAST-MODIFIED:20260118T210419Z
UID:9913-1771718400-1771804799@www.muttleyarchers.co.uk
SUMMARY:Preston College Portsmouth  (WA/AGB)
DESCRIPTION:48th Annual Indoor Championships and Open \n(UK Record status Portsmouth)
URL:https://www.muttleyarchers.co.uk/shoot/preston-college-portsmouth-fita/
LOCATION:Preston College\, Preston College\, St Vincents Road\, Preston\, Lancashire\, PR2 8UR\, United Kingdom
CATEGORIES:FITA
ATTACH;FMTTYPE=image/webp:https://www.muttleyarchers.co.uk/wp-content/uploads/2026/01/wa.webp
END:VEVENT
BEGIN:VEVENT
DTSTART;VALUE=DATE:20260222
DTEND;VALUE=DATE:20260223
DTSTAMP:20260420T015051
CREATED:20251002T015144Z
LAST-MODIFIED:20260204T061538Z
UID:9403-1771718400-1771804799@www.muttleyarchers.co.uk
SUMMARY:Muttley Crew Open (NFAS)
DESCRIPTION:2×20 3Ds\, full catering\, bookings via mutleycrewarchers@gmail.com
URL:https://www.muttleyarchers.co.uk/shoot/muttley-crew-open-nfas-2/
LOCATION:Sales Wood\, Prescot and Odyssey Cricket Club\, Prescot\, Lancashire\, L35 6JW\, United Kingdom
CATEGORIES:NFAS Open
ATTACH;FMTTYPE=image/webp:https://www.muttleyarchers.co.uk/wp-content/uploads/2026/02/woods-e1770186362386.webp
END:VEVENT
BEGIN:VEVENT
DTSTART;VALUE=DATE:20260210
DTEND;VALUE=DATE:20260211
DTSTAMP:20260420T015051
CREATED:20251006T212338Z
LAST-MODIFIED:20260204T060805Z
UID:9469-1770681600-1770767999@www.muttleyarchers.co.uk
SUMMARY:Indoor League (Club Event)
DESCRIPTION:
URL:https://www.muttleyarchers.co.uk/shoot/indoor-league-club-event-7/
LOCATION:Inglenook Barn\, Inglenook Farm\, Rainford\, Lancashire\, WA11 8AE\, United Kingdom
CATEGORIES:Indoor League (Club Only)
ATTACH;FMTTYPE=image/webp:https://www.muttleyarchers.co.uk/wp-content/uploads/2026/02/indoorleague-e1770186306406.webp
END:VEVENT
BEGIN:VEVENT
DTSTART;VALUE=DATE:20260208
DTEND;VALUE=DATE:20260209
DTSTAMP:20260420T015051
CREATED:20251006T160110Z
LAST-MODIFIED:20251006T160110Z
UID:9452-1770508800-1770595199@www.muttleyarchers.co.uk
SUMMARY:Seedfield (Lancs League)
DESCRIPTION:
URL:https://www.muttleyarchers.co.uk/shoot/seedfield-lancs-league/
LOCATION:Seedfield Archers\, Giants Seat Scout Camp\, Radcliffe\, Manchester\, M26 1DY\, United Kingdom
CATEGORIES:Lancashire League
ATTACH;FMTTYPE=image/jpeg:https://www.muttleyarchers.co.uk/wp-content/uploads/2025/06/lancs.jpg
END:VEVENT
BEGIN:VEVENT
DTSTART;VALUE=DATE:20260131
DTEND;VALUE=DATE:20260201
DTSTAMP:20260420T015051
CREATED:20251006T231327Z
LAST-MODIFIED:20260204T061240Z
UID:9493-1769817600-1769903999@www.muttleyarchers.co.uk
SUMMARY:Wood Shoot (Club Only)
DESCRIPTION:
URL:https://www.muttleyarchers.co.uk/shoot/wood-shoot-club-only/
LOCATION:Sales Wood\, Prescot and Odyssey Cricket Club\, Prescot\, Lancashire\, L35 6JW\, United Kingdom
CATEGORIES:Wood Shoot (Club Only)
ATTACH;FMTTYPE=image/webp:https://www.muttleyarchers.co.uk/wp-content/uploads/2026/02/woodshooot-e1770186341124.webp
END:VEVENT
BEGIN:VEVENT
DTSTART;VALUE=DATE:20260125
DTEND;VALUE=DATE:20260126
DTSTAMP:20260420T015051
CREATED:20260106T112423Z
LAST-MODIFIED:20260118T203809Z
UID:9909-1769299200-1769385599@www.muttleyarchers.co.uk
SUMMARY:Assheton Bowmen UKRS Winter Worcester  (WA/AGB)
DESCRIPTION:Worcester Round: \nRC/BB/LB: 60 arrows on a single 40cm Worcester target face @20yards – Indoor \nCP: 60 arrows on a 5 spot Worcester target face @20yards – Indoor \nAll bowstyles shot in ends of 5 arrows.
URL:https://www.muttleyarchers.co.uk/shoot/assheton-bowmen-ukrs-winter-worcester-fita/
LOCATION:Assheton Bowmen\, Assheton Bowmen\, Tudor Lodge\, Victoria Avenue East\, Manchester\, Manchester\, M40 5SH\, United Kingdom
CATEGORIES:FITA
ATTACH;FMTTYPE=image/webp:https://www.muttleyarchers.co.uk/wp-content/uploads/2026/01/assheton.webp
END:VEVENT
END:VCALENDAR