BEGIN:VCALENDAR
VERSION:2.0
PRODID:-//Muttley Crew Archers - ECPv6.15.20//NONSGML v1.0//EN
CALSCALE:GREGORIAN
METHOD:PUBLISH
X-WR-CALNAME:Muttley Crew Archers
X-ORIGINAL-URL:https://www.muttleyarchers.co.uk
X-WR-CALDESC:Events for Muttley Crew Archers
REFRESH-INTERVAL;VALUE=DURATION:PT1H
X-Robots-Tag:noindex
X-PUBLISHED-TTL:PT1H
BEGIN:VTIMEZONE
TZID:Europe/London
BEGIN:DAYLIGHT
TZOFFSETFROM:+0000
TZOFFSETTO:+0100
TZNAME:BST
DTSTART:20250330T010000
END:DAYLIGHT
BEGIN:STANDARD
TZOFFSETFROM:+0100
TZOFFSETTO:+0000
TZNAME:GMT
DTSTART:20251026T010000
END:STANDARD
BEGIN:DAYLIGHT
TZOFFSETFROM:+0000
TZOFFSETTO:+0100
TZNAME:BST
DTSTART:20260329T010000
END:DAYLIGHT
BEGIN:STANDARD
TZOFFSETFROM:+0100
TZOFFSETTO:+0000
TZNAME:GMT
DTSTART:20261025T010000
END:STANDARD
BEGIN:DAYLIGHT
TZOFFSETFROM:+0000
TZOFFSETTO:+0100
TZNAME:BST
DTSTART:20270328T010000
END:DAYLIGHT
BEGIN:STANDARD
TZOFFSETFROM:+0100
TZOFFSETTO:+0000
TZNAME:GMT
DTSTART:20271031T010000
END:STANDARD
END:VTIMEZONE
BEGIN:VEVENT
DTSTART;VALUE=DATE:20260714
DTEND;VALUE=DATE:20260715
DTSTAMP:20260419T163823
CREATED:20251006T213321Z
LAST-MODIFIED:20260204T060436Z
UID:9481-1783987200-1784073599@www.muttleyarchers.co.uk
SUMMARY:Indoor League (Club Event)
DESCRIPTION:
URL:https://www.muttleyarchers.co.uk/shoot/indoor-league-club-event-13/
LOCATION:Inglenook Barn\, Inglenook Farm\, Rainford\, Lancashire\, WA11 8AE\, United Kingdom
CATEGORIES:Indoor League (Club Only)
ATTACH;FMTTYPE=image/webp:https://www.muttleyarchers.co.uk/wp-content/uploads/2026/02/indoorleague-e1770186306406.webp
END:VEVENT
BEGIN:VEVENT
DTSTART;VALUE=DATE:20260718
DTEND;VALUE=DATE:20260720
DTSTAMP:20260419T163823
CREATED:20251007T014921Z
LAST-MODIFIED:20251105T182911Z
UID:9524-1784332800-1784505599@www.muttleyarchers.co.uk
SUMMARY:Welsh Champs (NFAS Open)
DESCRIPTION:Shoot details. \nSaturday \nDate: 18th July 2025 \nVenue: Pendragon Archery \nRegistration from: 8.30am \nWalkouts: 10.00am \nCatering: Shoot through \nLocation using what3words: ///muffin.majors.fishnet \n  \n  \nSunday \nDate: 19th July 2025 \nVenue: Blaidd Field Archers \nRegistration from: 7.30am \nWalkouts: 9.00am \nCatering: Shoot through \nLocation using what3words: ///roughness.cultivation.asserts
URL:https://www.muttleyarchers.co.uk/shoot/welsh-champs-nfas-open/
LOCATION:Blaidd\, Wrexham\, Wales\, United Kingdom
CATEGORIES:NFAS Open
ATTACH;FMTTYPE=image/webp:https://www.muttleyarchers.co.uk/wp-content/uploads/2025/10/welsh.webp
END:VEVENT
BEGIN:VEVENT
DTSTART;VALUE=DATE:20260725
DTEND;VALUE=DATE:20260726
DTSTAMP:20260419T163823
CREATED:20250527T162622Z
LAST-MODIFIED:20260204T062315Z
UID:7213-1784937600-1785023999@www.muttleyarchers.co.uk
SUMMARY:Woods Shoot (Club Event)
DESCRIPTION:
URL:https://www.muttleyarchers.co.uk/shoot/muttley-woods-shoot-club-event/
LOCATION:Sales Wood\, Prescot and Odyssey Cricket Club\, Prescot\, Lancashire\, L35 6JW\, United Kingdom
CATEGORIES:Wood Shoot (Club Only)
ATTACH;FMTTYPE=image/webp:https://www.muttleyarchers.co.uk/wp-content/uploads/2026/02/woodshooot-e1770186341124.webp
END:VEVENT
BEGIN:VEVENT
DTSTART;VALUE=DATE:20260801
DTEND;VALUE=DATE:20260802
DTSTAMP:20260419T163823
CREATED:20251009T233003Z
LAST-MODIFIED:20260417T080438Z
UID:9560-1785542400-1785628799@www.muttleyarchers.co.uk
SUMMARY:Siege of Harfleur 2026 (Cancelled!)
DESCRIPTION:(Cancelled!) \nSaturday 1st August 2026 – Registration from 9am.\nArrows away at 11am.\nUnusual clout variation with knights and walls.\nLongbow\, trad bows and barebow.\nPrice includes lunch/feast – medieval dress optional but encouraged.\n[NFAS Cards accepted]
URL:https://www.muttleyarchers.co.uk/shoot/tcc-siege-of-harfleur-2026/
LOCATION:Clout Collective Etwall\, Mercia Archers\, Gresley Old Hall\, Swadlincote\, Derby\, DE11 9QW\, United Kingdom
CATEGORIES:Longbow Other
ATTACH;FMTTYPE=image/jpeg:https://www.muttleyarchers.co.uk/wp-content/uploads/2025/10/cloutcollective.jpg
END:VEVENT
BEGIN:VEVENT
DTSTART;VALUE=DATE:20260811
DTEND;VALUE=DATE:20260812
DTSTAMP:20260419T163823
CREATED:20251006T213449Z
LAST-MODIFIED:20260416T221135Z
UID:9483-1786406400-1786492799@www.muttleyarchers.co.uk
SUMMARY:Indoor League (Club Event)
DESCRIPTION:
URL:https://www.muttleyarchers.co.uk/shoot/indoor-league-club-event-14/
LOCATION:Inglenook Barn\, Inglenook Farm\, Rainford\, Lancashire\, WA11 8AE\, United Kingdom
CATEGORIES:Indoor League (Club Only)
ATTACH;FMTTYPE=image/webp:https://www.muttleyarchers.co.uk/wp-content/uploads/2026/02/indoorleague-e1770186306406.webp
END:VEVENT
BEGIN:VEVENT
DTSTART;VALUE=DATE:20260816
DTEND;VALUE=DATE:20260817
DTSTAMP:20260419T163823
CREATED:20251008T183422Z
LAST-MODIFIED:20251008T183422Z
UID:9536-1786838400-1786924799@www.muttleyarchers.co.uk
SUMMARY:Wolverine Open (NFAS)
DESCRIPTION:Booking by text only
URL:https://www.muttleyarchers.co.uk/shoot/wolverine-open-nfas-2/
LOCATION:Wolverine Archers\, Near Audley\, Stoke-on-Trent\, United Kingdom
CATEGORIES:NFAS Open
ATTACH;FMTTYPE=image/jpeg:https://www.muttleyarchers.co.uk/wp-content/uploads/2025/05/Untitled-8.jpg
END:VEVENT
BEGIN:VEVENT
DTSTART;VALUE=DATE:20260829
DTEND;VALUE=DATE:20260830
DTSTAMP:20260419T163823
CREATED:20250603T101931Z
LAST-MODIFIED:20260204T060521Z
UID:7822-1787961600-1788047999@www.muttleyarchers.co.uk
SUMMARY:Woods Shoot (Club Event)
DESCRIPTION:
URL:https://www.muttleyarchers.co.uk/shoot/woods-shoot-club-event-2/
LOCATION:Sales Wood\, Prescot and Odyssey Cricket Club\, Prescot\, Lancashire\, L35 6JW\, United Kingdom
CATEGORIES:Wood Shoot (Club Only)
ATTACH;FMTTYPE=image/webp:https://www.muttleyarchers.co.uk/wp-content/uploads/2026/02/woodshooot-e1770186341124.webp
END:VEVENT
BEGIN:VEVENT
DTSTART;VALUE=DATE:20260906
DTEND;VALUE=DATE:20260907
DTSTAMP:20260419T163823
CREATED:20251008T183714Z
LAST-MODIFIED:20251008T183810Z
UID:9538-1788652800-1788739199@www.muttleyarchers.co.uk
SUMMARY:Delamere Open (NFAS)
DESCRIPTION:40 Targets\, mostly 3Ds\, unsighted bows only\, sorry no X bows\, catering all day\, safety briefing 10am
URL:https://www.muttleyarchers.co.uk/shoot/delamere-open-nfas/
LOCATION:Delamere\, Delamere Field Archers\, Northwich\, Cheshire\, CW8 2HB\, United Kingdom
CATEGORIES:NFAS Open
ATTACH;FMTTYPE=image/jpeg:https://www.muttleyarchers.co.uk/wp-content/uploads/2025/06/delamere.jpg
END:VEVENT
BEGIN:VEVENT
DTSTART;VALUE=DATE:20260908
DTEND;VALUE=DATE:20260909
DTSTAMP:20260419T163823
CREATED:20251006T213606Z
LAST-MODIFIED:20260204T060634Z
UID:9485-1788825600-1788911999@www.muttleyarchers.co.uk
SUMMARY:Indoor League (Club Event)
DESCRIPTION:
URL:https://www.muttleyarchers.co.uk/shoot/indoor-league-club-event-15/
LOCATION:Inglenook Barn\, Inglenook Farm\, Rainford\, Lancashire\, WA11 8AE\, United Kingdom
CATEGORIES:Indoor League (Club Only)
ATTACH;FMTTYPE=image/webp:https://www.muttleyarchers.co.uk/wp-content/uploads/2026/02/indoorleague-e1770186306406.webp
END:VEVENT
BEGIN:VEVENT
DTSTART;VALUE=DATE:20260912
DTEND;VALUE=DATE:20260914
DTSTAMP:20260419T163823
CREATED:20251007T015617Z
LAST-MODIFIED:20251007T015617Z
UID:9530-1789171200-1789343999@www.muttleyarchers.co.uk
SUMMARY:National Champs (NFAS)
DESCRIPTION:Details pending
URL:https://www.muttleyarchers.co.uk/shoot/national-champs-nfas/
LOCATION:Cheshire
CATEGORIES:NFAS Open
ATTACH;FMTTYPE=image/webp:https://www.muttleyarchers.co.uk/wp-content/uploads/2025/05/nfas-e1748713232514.webp
END:VEVENT
BEGIN:VEVENT
DTSTART;VALUE=DATE:20260926
DTEND;VALUE=DATE:20260927
DTSTAMP:20260419T163823
CREATED:20250603T102854Z
LAST-MODIFIED:20260204T060552Z
UID:7830-1790380800-1790467199@www.muttleyarchers.co.uk
SUMMARY:Woods Shoot (Club Event)
DESCRIPTION:
URL:https://www.muttleyarchers.co.uk/shoot/woods-shoot-club-event-3/
LOCATION:Sales Wood\, Prescot and Odyssey Cricket Club\, Prescot\, Lancashire\, L35 6JW\, United Kingdom
CATEGORIES:Wood Shoot (Club Only)
ATTACH;FMTTYPE=image/webp:https://www.muttleyarchers.co.uk/wp-content/uploads/2026/02/woodshooot-e1770186341124.webp
END:VEVENT
BEGIN:VEVENT
DTSTART;VALUE=DATE:20260927
DTEND;VALUE=DATE:20260928
DTSTAMP:20260419T163823
CREATED:20251008T183953Z
LAST-MODIFIED:20251008T183953Z
UID:9540-1790467200-1790553599@www.muttleyarchers.co.uk
SUMMARY:Dolphinholme Open (NFAS)
DESCRIPTION:2×20 Mixed\, 3Ds and paper faces\, walk out 10am\, full catering\, vegetarians please order in advance
URL:https://www.muttleyarchers.co.uk/shoot/dolphinholme-open-nfas/
LOCATION:Dolphinholme Archers\, Near Preston\, Lancashire\, United Kingdom
CATEGORIES:NFAS Open
ATTACH;FMTTYPE=image/jpeg:https://www.muttleyarchers.co.uk/wp-content/uploads/2025/06/dolphinhome.jpg
END:VEVENT
BEGIN:VEVENT
DTSTART;VALUE=DATE:20260927
DTEND;VALUE=DATE:20260928
DTSTAMP:20260419T163823
CREATED:20251008T184123Z
LAST-MODIFIED:20251008T184208Z
UID:9542-1790467200-1790553599@www.muttleyarchers.co.uk
SUMMARY:Duvelle Open (NFAS)
DESCRIPTION:36 mixed\, mostly 3Ds\, full catering\, 10am start\, pre-book\, pre-pay\, bookings taken from 1st July\, on site camping available.
URL:https://www.muttleyarchers.co.uk/shoot/duvelle-open-nfas/
LOCATION:Duvelle\, Kirk Langley\, 5M NW Derby off A52\,\, Derby\, DE6 4NW\, United Kingdom
CATEGORIES:NFAS Open
ATTACH;FMTTYPE=image/jpeg:https://www.muttleyarchers.co.uk/wp-content/uploads/2025/10/duvelle.jpg
END:VEVENT
BEGIN:VEVENT
DTSTART;VALUE=DATE:20261004
DTEND;VALUE=DATE:20261005
DTSTAMP:20260419T163823
CREATED:20251007T014553Z
LAST-MODIFIED:20251007T014553Z
UID:9522-1791072000-1791158399@www.muttleyarchers.co.uk
SUMMARY:Seedfield Open (NFAS)
DESCRIPTION:2×20 all 3Ds\, 10am start\, catering available
URL:https://www.muttleyarchers.co.uk/shoot/seedfield-open-nfas-2/
LOCATION:Seedfield Archers\, Giants Seat Scout Camp\, Radcliffe\, Manchester\, M26 1DY\, United Kingdom
CATEGORIES:NFAS Open
ATTACH;FMTTYPE=image/jpeg:https://www.muttleyarchers.co.uk/wp-content/uploads/2025/06/seedfiled.jpg
END:VEVENT
BEGIN:VEVENT
DTSTART;VALUE=DATE:20261011
DTEND;VALUE=DATE:20261012
DTSTAMP:20260419T163823
CREATED:20260105T161215Z
LAST-MODIFIED:20260105T161242Z
UID:9899-1791676800-1791763199@www.muttleyarchers.co.uk
SUMMARY:Blaidd Wolf Hunter Shoot (NFAS Only)
DESCRIPTION:Hunter round – 2 arrows\, specialist rules.. \n\n40 3ds\nHunter scoring (see more)\nUnsighted Styles only: HT\, AFB\, LB\, PV\, BB\, TD\, TBH\, BH\, TXB\nRegistration from 8.30am\nThe shoot starts at 10.00am\nFull catering\nWell-behaved dogs allowed\n£10 (pre-pay)\nNFAS members only
URL:https://www.muttleyarchers.co.uk/shoot/blaidd-wolf-hunter-shoot-nfas-only/
LOCATION:Blaidd\, Wrexham\, Wales\, United Kingdom
CATEGORIES:NFAS Open
ATTACH;FMTTYPE=image/jpeg:https://www.muttleyarchers.co.uk/wp-content/uploads/2025/06/blaidd.jpg
END:VEVENT
BEGIN:VEVENT
DTSTART;VALUE=DATE:20261013
DTEND;VALUE=DATE:20261014
DTSTAMP:20260419T163823
CREATED:20251006T213727Z
LAST-MODIFIED:20260204T055710Z
UID:9487-1791849600-1791935999@www.muttleyarchers.co.uk
SUMMARY:Indoor League (Club Event)
DESCRIPTION:
URL:https://www.muttleyarchers.co.uk/shoot/indoor-league-club-event-16/
LOCATION:Inglenook Barn\, Inglenook Farm\, Rainford\, Lancashire\, WA11 8AE\, United Kingdom
CATEGORIES:Indoor League (Club Only)
ATTACH;FMTTYPE=image/webp:https://www.muttleyarchers.co.uk/wp-content/uploads/2026/02/indoorleague-e1770186306406.webp
END:VEVENT
BEGIN:VEVENT
DTSTART;VALUE=DATE:20261017
DTEND;VALUE=DATE:20261019
DTSTAMP:20260419T163823
CREATED:20251002T134651Z
LAST-MODIFIED:20251121T024428Z
UID:9405-1792195200-1792367999@www.muttleyarchers.co.uk
SUMMARY:Honourable Artillery Company (St George Fraternity)
DESCRIPTION:To the Marks and Speed Championship (on what remains of Finsbury Fields at HAC) \nLongbow hire available – catered\, tour of Finsbury Marks of London
URL:https://www.muttleyarchers.co.uk/shoot/honourable-artillery-company/
LOCATION:HAC\, Honourable Artillery Company\, City Road\, London\, London\, EC1Y 2BQ\, United Kingdom
CATEGORIES:Longbow Other
ATTACH;FMTTYPE=image/png:https://www.muttleyarchers.co.uk/wp-content/uploads/2025/10/stgeorge-e1759768345597.png
END:VEVENT
BEGIN:VEVENT
DTSTART;VALUE=DATE:20261018
DTEND;VALUE=DATE:20261019
DTSTAMP:20260419T163823
CREATED:20251008T184358Z
LAST-MODIFIED:20260204T062051Z
UID:9544-1792281600-1792367999@www.muttleyarchers.co.uk
SUMMARY:Muttley Open (NFAS)
DESCRIPTION:2×20 3Ds\, full catering\, bookings via mutleycrewarchers@gmail.com
URL:https://www.muttleyarchers.co.uk/shoot/muttley-open-nfas/
LOCATION:Sales Wood\, Prescot and Odyssey Cricket Club\, Prescot\, Lancashire\, L35 6JW\, United Kingdom
CATEGORIES:NFAS Open
ATTACH;FMTTYPE=image/webp:https://www.muttleyarchers.co.uk/wp-content/uploads/2026/02/woods-e1770186362386.webp
END:VEVENT
BEGIN:VEVENT
DTSTART;VALUE=DATE:20261025
DTEND;VALUE=DATE:20261026
DTSTAMP:20260419T163823
CREATED:20251002T140727Z
LAST-MODIFIED:20251121T024710Z
UID:9414-1792886400-1792972799@www.muttleyarchers.co.uk
SUMMARY:Field/3D Longbow British Championship (ILAA)
DESCRIPTION:ILAA Field Target British Championship. \nPlease reserve\, shoot-fee is £13. Tea\, coffee and light meals will be available during the shoot. \nCollect your placing between 0900 hrs and 1000 hrs – The Shoot starts at 1030 hrs. \nILAA Membership required – 3D field target rules based on EFAA
URL:https://www.muttleyarchers.co.uk/shoot/longbow-3d-field-championship-ilaa/
LOCATION:Panther\, Runwelle Farm\, Hoe Lane\, Rettendon\, Essex\, CM3 8DQ\, United Kingdom
CATEGORIES:Longbow Other
ATTACH;FMTTYPE=image/webp:https://www.muttleyarchers.co.uk/wp-content/uploads/2025/10/ilaa-e1759768406252.webp
END:VEVENT
BEGIN:VEVENT
DTSTART;VALUE=DATE:20261031
DTEND;VALUE=DATE:20261101
DTSTAMP:20260419T163823
CREATED:20250519T083359Z
LAST-MODIFIED:20260204T055614Z
UID:6624-1793404800-1793491199@www.muttleyarchers.co.uk
SUMMARY:Woods Shoot (Club Event)
DESCRIPTION:Monthly club wood shoot.
URL:https://www.muttleyarchers.co.uk/shoot/woods-shoot-club-event/
LOCATION:Sales Wood\, Prescot and Odyssey Cricket Club\, Prescot\, Lancashire\, L35 6JW\, United Kingdom
CATEGORIES:Wood Shoot (Club Only)
ATTACH;FMTTYPE=image/webp:https://www.muttleyarchers.co.uk/wp-content/uploads/2026/02/woodshooot-e1770186341124.webp
END:VEVENT
BEGIN:VEVENT
DTSTART;VALUE=DATE:20261101
DTEND;VALUE=DATE:20261102
DTSTAMP:20260419T163823
CREATED:20251006T160553Z
LAST-MODIFIED:20251006T161005Z
UID:9458-1793491200-1793577599@www.muttleyarchers.co.uk
SUMMARY:Kendal (Lancs League)
DESCRIPTION:
URL:https://www.muttleyarchers.co.uk/shoot/kendal-lancs-league/
LOCATION:Kendal Bowmen\, Junction 37 towards Kendal\, Kendal\, LA8 0BE\, United Kingdom
CATEGORIES:Lancashire League
ATTACH;FMTTYPE=image/jpeg:https://www.muttleyarchers.co.uk/wp-content/uploads/2025/06/lancs.jpg
END:VEVENT
BEGIN:VEVENT
DTSTART;VALUE=DATE:20261108
DTEND;VALUE=DATE:20261109
DTSTAMP:20260419T163823
CREATED:20251007T015807Z
LAST-MODIFIED:20251123T093746Z
UID:9532-1794096000-1794182399@www.muttleyarchers.co.uk
SUMMARY:Cheshire Oak Remembrance Day (NFAS)
DESCRIPTION:Rememberance day shoot\, 2×20 3Ds\, instinctive styles only\, no sighted bows or binoculars\, catering\, 10am start\, sorry no dogs
URL:https://www.muttleyarchers.co.uk/shoot/cheshire-oaks-remembrance-day-nfas/
LOCATION:Cheshire Oak Bowmen\, Near Nutsford\, Nutsford\, Cheshire\, United Kingdom
CATEGORIES:NFAS Open
ATTACH;FMTTYPE=image/jpeg:https://www.muttleyarchers.co.uk/wp-content/uploads/2025/06/cheshire.jpg
END:VEVENT
BEGIN:VEVENT
DTSTART;VALUE=DATE:20261110
DTEND;VALUE=DATE:20261111
DTSTAMP:20260419T163823
CREATED:20251006T213846Z
LAST-MODIFIED:20260204T055551Z
UID:9489-1794268800-1794355199@www.muttleyarchers.co.uk
SUMMARY:Indoor League (Club Event)
DESCRIPTION:
URL:https://www.muttleyarchers.co.uk/shoot/indoor-league-club-event-17/
LOCATION:Inglenook Barn\, Inglenook Farm\, Rainford\, Lancashire\, WA11 8AE\, United Kingdom
CATEGORIES:Indoor League (Club Only)
ATTACH;FMTTYPE=image/webp:https://www.muttleyarchers.co.uk/wp-content/uploads/2026/02/indoorleague-e1770186306406.webp
END:VEVENT
BEGIN:VEVENT
DTSTART;TZID=Europe/London:20261128T100000
DTEND;TZID=Europe/London:20261128T140000
DTSTAMP:20260419T163823
CREATED:20250521T112549Z
LAST-MODIFIED:20260204T055522Z
UID:7031-1795860000-1795874400@www.muttleyarchers.co.uk
SUMMARY:Woods Shoot (Club Event)
DESCRIPTION:Monthly club shoot
URL:https://www.muttleyarchers.co.uk/shoot/muttley-woods-club-event/
LOCATION:Sales Wood\, Prescot and Odyssey Cricket Club\, Prescot\, Lancashire\, L35 6JW\, United Kingdom
CATEGORIES:Wood Shoot (Club Only)
ATTACH;FMTTYPE=image/webp:https://www.muttleyarchers.co.uk/wp-content/uploads/2026/02/woodshooot-e1770186341124.webp
END:VEVENT
BEGIN:VEVENT
DTSTART;VALUE=DATE:20261129
DTEND;VALUE=DATE:20261130
DTSTAMP:20260419T163823
CREATED:20251006T160804Z
LAST-MODIFIED:20260204T055423Z
UID:9460-1795910400-1795996799@www.muttleyarchers.co.uk
SUMMARY:Muttley Crew (Lancs League Final)
DESCRIPTION:
URL:https://www.muttleyarchers.co.uk/shoot/muttley-crew-lancs-league-final-2/
LOCATION:Sales Wood\, Prescot and Odyssey Cricket Club\, Prescot\, Lancashire\, L35 6JW\, United Kingdom
CATEGORIES:Lancashire League
ATTACH;FMTTYPE=image/webp:https://www.muttleyarchers.co.uk/wp-content/uploads/2026/02/lancsleague-e1770186380542.webp
END:VEVENT
BEGIN:VEVENT
DTSTART;VALUE=DATE:20261205
DTEND;VALUE=DATE:20261207
DTSTAMP:20260419T163823
CREATED:20251002T135352Z
LAST-MODIFIED:20260105T162302Z
UID:9411-1796428800-1796601599@www.muttleyarchers.co.uk
SUMMARY:Royal Windsor Xmas Shoot (St George Fraternity)
DESCRIPTION:To the Marks\, Flight\, Speed \nRoyal Windsor Deer Park\,
URL:https://www.muttleyarchers.co.uk/shoot/royal-windsor-xmas-shoot/
LOCATION:Royal Windsor Deer Park\, Windsor Castle\, London\, SL4 2HT\, United Kingdom
CATEGORIES:Longbow Other
ATTACH;FMTTYPE=image/png:https://www.muttleyarchers.co.uk/wp-content/uploads/2025/10/stgeorge-e1759768345597.png
END:VEVENT
BEGIN:VEVENT
DTSTART;VALUE=DATE:20261208
DTEND;VALUE=DATE:20261209
DTSTAMP:20260419T163823
CREATED:20251006T214001Z
LAST-MODIFIED:20260204T055351Z
UID:9491-1796688000-1796774399@www.muttleyarchers.co.uk
SUMMARY:Indoor League Final (Club Event)
DESCRIPTION:
URL:https://www.muttleyarchers.co.uk/shoot/indoor-league-final-club-event-2/
LOCATION:Inglenook Barn\, Inglenook Farm\, Rainford\, Lancashire\, WA11 8AE\, United Kingdom
CATEGORIES:Indoor League (Club Only)
ATTACH;FMTTYPE=image/webp:https://www.muttleyarchers.co.uk/wp-content/uploads/2026/02/indoorleague-e1770186306406.webp
END:VEVENT
END:VCALENDAR